BEGIN:VCALENDAR
VERSION:2.0
PRODID:-//Chichester Literary Society - ECPv4.6.16//NONSGML v1.0//EN
CALSCALE:GREGORIAN
METHOD:PUBLISH
X-WR-CALNAME:Chichester Literary Society
X-ORIGINAL-URL:https://www.chichesterliterarysociety.org
X-WR-CALDESC:Events for Chichester Literary Society
BEGIN:VEVENT
DTSTART;TZID=Europe/London:20211103T140000
DTEND;TZID=Europe/London:20211103T160000
DTSTAMP:20260423T082952
CREATED:20201216T154147Z
LAST-MODIFIED:20210513T171811Z
UID:2436-1635948000-1635955200@www.chichesterliterarysociety.org
SUMMARY:AGM + Peter Parker: Christopher Isherwood - A Twentieth Century Life
DESCRIPTION:
URL:https://www.chichesterliterarysociety.org/event/agm/
END:VEVENT
END:VCALENDAR